BEGIN:VCALENDAR
VERSION:2.0
PRODID:-//Pianist Bastian Kopp -♫-die passende Musik für Ihr Event//NONSGML kigkonsult.se iCalcreator 2.41.92//
CALSCALE:GREGORIAN
METHOD:PUBLISH
UID:65663365-6564-4132-a662-393530653538
X-WR-CALNAME:iCagenda
X-WR-CALDESC:Event Management Extension for Joomla!
X-WR-RELCALID:3E26604A-50F4-4449-8B3E-E4F4932D05B5
X-WR-TIMEZONE:Europe/Berlin
BEGIN:VTIMEZONE
TZID:Europe/Berlin
TZUNTIL:20250330T010000Z
BEGIN:STANDARD
TZNAME:CET
DTSTART:20221030T030000
TZOFFSETFROM:+0200
TZOFFSETTO:+0100
RDATE:20231029T030000
RDATE:20241027T030000
END:STANDARD
BEGIN:DAYLIGHT
TZNAME:CEST
DTSTART:20230326T020000
TZOFFSETFROM:+0100
TZOFFSETTO:+0200
RDATE:20240331T020000
END:DAYLIGHT
END:VTIMEZONE
BEGIN:VEVENT
UID:61356237-3762-4363-b462-666265623766
DTSTAMP:20260424T093844Z
CATEGORIES:Veranstaltungen
CLASS:PUBLIC
DESCRIPTION;ALTREP="CID:<FFFF__=0ABBE548DFE235B58f9e8a93d@coffeebean.com>":
 KOLOSS LIVE auf der Open-Air-Bühne\, Nähe Tempelhofer Straße
DTSTART:20230917T160000Z
DTEND:20230917T200000Z
GEO:+51.085941;+6.890562
LOCATION:Open-Air-Bühne
ORGANIZER:
SEQUENCE:1
SUMMARY:mit KOLOSS LIVE in Monheim am Rhein
TRANSP:OPAQUE
URL:https://www.bastiankopp.de/termine/vergangene-termine/9-mit-koloss-live
 /2023-09-17-18-00.html
END:VEVENT
END:VCALENDAR
