BEGIN:VCALENDAR
VERSION:2.0
PRODID:-//Pianist Bastian Kopp -♫-die passende Musik für Ihr Event//NONSGML kigkonsult.se iCalcreator 2.41.92//
CALSCALE:GREGORIAN
METHOD:PUBLISH
UID:31376537-3738-4934-b036-393862613762
X-WR-CALNAME:iCagenda
X-WR-CALDESC:Event Management Extension for Joomla!
X-WR-RELCALID:3E26604A-50F4-4449-8B3E-E4F4932D05B5
X-WR-TIMEZONE:Europe/Berlin
BEGIN:VTIMEZONE
TZID:Europe/Berlin
TZUNTIL:20250330T010000Z
BEGIN:STANDARD
TZNAME:CET
DTSTART:20221030T030000
TZOFFSETFROM:+0200
TZOFFSETTO:+0100
RDATE:20231029T030000
RDATE:20241027T030000
END:STANDARD
BEGIN:DAYLIGHT
TZNAME:CEST
DTSTART:20230326T020000
TZOFFSETFROM:+0100
TZOFFSETTO:+0200
RDATE:20240331T020000
END:DAYLIGHT
END:VTIMEZONE
BEGIN:VEVENT
UID:34353233-3961-4530-a630-396237396464
DTSTAMP:20260424T103552Z
CATEGORIES:Veranstaltungen
CLASS:PUBLIC
DESCRIPTION;ALTREP="CID:<FFFF__=0ABBE548DFE235B58f9e8a93d@coffeebean.com>":
 Geschlossene Gesellschaft
DTSTART:20230513T151500Z
DTEND:20230513T151500Z
GEO:+51.264019;+7.178037
LOCATION:
ORGANIZER:
SEQUENCE:1
SUMMARY:mit THREEDOM LIVE in Wuppertal (geschlossene Gesellschaft)
TRANSP:OPAQUE
URL:https://www.bastiankopp.de/termine/vergangene-termine/6-mit-threedom-li
 ve-in-wuppertal-geschlossene-gesellschaft/2023-05-13-17-15.html
END:VEVENT
END:VCALENDAR
