BEGIN:VCALENDAR
VERSION:2.0
PRODID:-//Pianist Bastian Kopp -♫-die passende Musik für Ihr Event//NONSGML kigkonsult.se iCalcreator 2.41.92//
CALSCALE:GREGORIAN
METHOD:PUBLISH
UID:65303234-3266-4661-b765-653335633231
X-WR-CALNAME:iCagenda
X-WR-CALDESC:Event Management Extension for Joomla!
X-WR-RELCALID:3E26604A-50F4-4449-8B3E-E4F4932D05B5
X-WR-TIMEZONE:Europe/Berlin
BEGIN:VTIMEZONE
TZID:Europe/Berlin
TZUNTIL:20241027T010000Z
BEGIN:STANDARD
TZNAME:CET
DTSTART:20221030T030000
TZOFFSETFROM:+0200
TZOFFSETTO:+0100
RDATE:20231029T030000
END:STANDARD
BEGIN:DAYLIGHT
TZNAME:CEST
DTSTART:20220327T020000
TZOFFSETFROM:+0100
TZOFFSETTO:+0200
RDATE:20230326T020000
RDATE:20240331T020000
END:DAYLIGHT
END:VTIMEZONE
BEGIN:VEVENT
UID:39626166-6333-4332-a330-623736653036
DTSTAMP:20260424T092748Z
CATEGORIES:Veranstaltungen
CLASS:PUBLIC
DESCRIPTION;ALTREP="CID:<FFFF__=0ABBE548DFE235B58f9e8a93d@coffeebean.com>":
 Georg Kreisler war ein Mei­ster der Satire\, der Kompo­sition und der Dich
 tkunst\, ein Jahrhundertkünstler\, wie es ihn im deutschsprachigen Raum ka
 um ein zweites Mal gab. Den meisten Zuhörern ist der Kabarettist für seine
  schwarzhumorigen Lieder be­kannt\, aber sein Werk ist wesentlich bunter\,
  wie dieser Abend beweist.&nbsp\;Groteske Lyrik und literarische Prosa mis
 chen sich mit feinsinnigen Kompositionen und bissigem Humor.Anlässlich sei
 nes hundertsten Geburtstages präsentieren Kriszti Kiss und Bastian Kopp ei
 nen Ausschnitt des kreislerschen Schaffens. Die Künstler\, die jeweils sei
 t Jahren solistisch mit Kreislerprogrammen auf Bühnen unterwegs sind\, hab
 en sich für diese Jubiläumsprogramm zusammengefunden. Freuen Sie sich zum 
 Hundertsten auf Ge­hörtes und Unerhörtes\, bekannte und weniger bekannte L
 ieder\, Biographisches und Gesellschaftskritisches\, das immer wieder ein 
 befreites Grinsen\, nachdenkliches Schmun­zeln und bisweilen ein Lachen pr
 ovoziert\, das den Zuhörern im Halse stecken bleibt.\nKriszti Kiss erhielt
  ihr Schauspiel-Diplom an der renommierten Staatlichen Hochschule für Scha
 uspielkünste in Budapest\, ihrer Heimatstadt. Sie lebt seit mehr als dreiß
 ig Jahren in Dortmund und arbeitet seither als Schauspielerin an vielen na
 mhaften Bühnen\, in freien Produktionen sowie als Kabarettistin und Chanso
 nsängerin.Bastian Kopp lebt in Düsseldorf. Er arbeitet seit Jahren freisch
 affend als Pianist\, Liedbegleiter\, Komponist und Sänger. Besonders als I
 nterpret von Liedern Georg Kreislers hat er sich einen Namen gemacht.
DTSTART:20230316T180000Z
DTEND:20230316T180000Z
GEO:+51.408237;+7.69392
LOCATION:Historische Fabrikanlage Maste-Barendorf
ORGANIZER;CN=:mailto:museum@iserlohn.de
SEQUENCE:1
SUMMARY:Als wir noch dünner waren\, standen wir uns näher...
TRANSP:OPAQUE
URL:https://www.bastiankopp.de/termine/vergangene-termine/5-als-wir-noch-d%
 C3%BCnner-waren,-standen-wir-uns-n%C3%A4her/2023-03-16-19-00.html
END:VEVENT
END:VCALENDAR
