BEGIN:VCALENDAR
VERSION:2.0
PRODID:-//Pianist Bastian Kopp -♫-die passende Musik für Ihr Event//NONSGML kigkonsult.se iCalcreator 2.41.92//
CALSCALE:GREGORIAN
METHOD:PUBLISH
UID:61306537-3339-4461-a337-633365366565
X-WR-CALNAME:iCagenda
X-WR-CALDESC:Event Management Extension for Joomla!
X-WR-RELCALID:3E26604A-50F4-4449-8B3E-E4F4932D05B5
X-WR-TIMEZONE:Europe/Berlin
BEGIN:VTIMEZONE
TZID:Europe/Berlin
TZUNTIL:20241027T010000Z
BEGIN:STANDARD
TZNAME:CET
DTSTART:20221030T030000
TZOFFSETFROM:+0200
TZOFFSETTO:+0100
RDATE:20231029T030000
END:STANDARD
BEGIN:DAYLIGHT
TZNAME:CEST
DTSTART:20220327T020000
TZOFFSETFROM:+0100
TZOFFSETTO:+0200
RDATE:20230326T020000
RDATE:20240331T020000
END:DAYLIGHT
END:VTIMEZONE
BEGIN:VEVENT
UID:31373839-6437-4565-a430-656331376465
DTSTAMP:20260424T092330Z
CATEGORIES:Veranstaltungen
CLASS:PUBLIC
DESCRIPTION;ALTREP="CID:<FFFF__=0ABBE548DFE235B58f9e8a93d@coffeebean.com>":
 Bitterböse\, schonungslos ehrlich und musikalisch stets raffiniert. Die Li
 eder Georg Kreislers haben ihren Charme auch nach Jahrzehnten behalten.&nb
 sp\;\n\nAus einer Presseinfo zitiert:\n\n'Es ist selten\, dass ein kabaret
 tistisches Lied seine Zeit überdauert. Bei den Liedern Georg Kreislers ist
  das anders. Seit Jahrzehnten haben sie nicht an Aktualität eingebüßt und 
 an Schärfe nicht verloren. Bastian Kopp greift diese Lieder auf und stellt
  sie in unsere Zeit: Eine Zeit der Arbeitsämter\, der Armut an Perspektive
 n\, eine Zeit der politischen Beschwichtigungen und des Zweckoptimismus. D
 ass diese jedoch keine neuen Phänomene sind\, sondern schon seit langer Ze
 it die Konturen der deutschen Seele schleifen\, zeigen die Lieder von Geor
 g Kreisler.Im zweiten Teil des Konzertes steht weniger die Politik im Vord
 ergrund\, als deren Gegenteil\, der Mensch:Von den kreislerschen Liebeslie
 dern\, über Paarbeziehungen\, dem 'Wiegenlied'\, hin zum Aufgeschmissensei
 n des vermeintlich erwachsenen Menschen in seiner Umgebung. Wenn dann\, na
 ch gescheiterter Psychotherapie und 'Schizophrenie' der Abend sich dem End
 e neigt\, und Bastian Kopp folgerichtig schließt: '... denn der Mensch ble
 ibt ein Mensch! Der muss weg!' - und abgeht - wird das Publikum es zwar be
 dauern\, ihm aber nicht ernsthaft widersprechen können.'\n
DTSTART:20230119T150000Z
DTEND:20230119T150000Z
GEO:+51.227436;+6.898699
LOCATION:Rosenhof Erkrath
ORGANIZER:
SEQUENCE:1
SUMMARY:Kopp spielt Kreisler - ein Abend allein
TRANSP:OPAQUE
URL:https://www.bastiankopp.de/termine/vergangene-termine/4-kopp-spielt-kre
 isler/2023-01-19-16-00.html
END:VEVENT
END:VCALENDAR
