BEGIN:VCALENDAR
VERSION:2.0
PRODID:-//Pianist Bastian Kopp -♫-die passende Musik für Ihr Event//NONSGML kigkonsult.se iCalcreator 2.41.92//
CALSCALE:GREGORIAN
METHOD:PUBLISH
UID:39373239-6238-4939-b064-646336323831
X-WR-CALNAME:iCagenda
X-WR-CALDESC:Event Management Extension for Joomla!
X-WR-RELCALID:3E26604A-50F4-4449-8B3E-E4F4932D05B5
X-WR-TIMEZONE:Europe/Berlin
BEGIN:VTIMEZONE
TZID:Europe/Berlin
TZUNTIL:20260329T010000Z
BEGIN:STANDARD
TZNAME:CET
DTSTART:20231029T030000
TZOFFSETFROM:+0200
TZOFFSETTO:+0100
RDATE:20241027T030000
RDATE:20251026T030000
END:STANDARD
BEGIN:DAYLIGHT
TZNAME:CEST
DTSTART:20240331T020000
TZOFFSETFROM:+0100
TZOFFSETTO:+0200
RDATE:20250330T020000
END:DAYLIGHT
END:VTIMEZONE
BEGIN:VEVENT
UID:32343637-3564-4532-b766-336138613430
DTSTAMP:20260424T093937Z
CATEGORIES:Veranstaltungen
CLASS:PUBLIC
DESCRIPTION:
DTSTART:20240831T170000Z
DTEND:20240831T170000Z
GEO:+51.081585;+6.901332
LOCATION:
ORGANIZER:
SEQUENCE:1
SUMMARY:Mit KOLOSS LIVE in Monheim
TRANSP:OPAQUE
URL:https://www.bastiankopp.de/termine/vergangene-termine/35-mit-koloss-liv
 e-in-monheim/2024-08-31-19-00.html
END:VEVENT
END:VCALENDAR
