BEGIN:VCALENDAR
VERSION:2.0
PRODID:-//Pianist Bastian Kopp -♫-die passende Musik für Ihr Event//NONSGML kigkonsult.se iCalcreator 2.41.92//
CALSCALE:GREGORIAN
METHOD:PUBLISH
UID:31653534-3135-4466-b561-653136643332
X-WR-CALNAME:iCagenda
X-WR-CALDESC:Event Management Extension for Joomla!
X-WR-RELCALID:3E26604A-50F4-4449-8B3E-E4F4932D05B5
X-WR-TIMEZONE:Europe/Berlin
BEGIN:VTIMEZONE
TZID:Europe/Berlin
TZUNTIL:20271031T010000Z
BEGIN:STANDARD
TZNAME:CET
DTSTART:20251026T030000
TZOFFSETFROM:+0200
TZOFFSETTO:+0100
RDATE:20261025T030000
END:STANDARD
BEGIN:DAYLIGHT
TZNAME:CEST
DTSTART:20250330T020000
TZOFFSETFROM:+0100
TZOFFSETTO:+0200
RDATE:20260329T020000
RDATE:20270328T020000
END:DAYLIGHT
END:VTIMEZONE
BEGIN:VEVENT
UID:34396162-3134-4634-b963-306465633335
DTSTAMP:20260424T092424Z
CATEGORIES:Veranstaltungen
CLASS:PUBLIC
DESCRIPTION:
DTSTART:20251209T110500Z
DTEND:20251209T110500Z
GEO:00;0
LOCATION:
ORGANIZER:
SEQUENCE:1
SUMMARY:mit THREEDOM LIVE im Hospiz (PRIVAT)
TRANSP:OPAQUE
URL:https://www.bastiankopp.de/termine/vergangene-termine/34-mit-threedom-l
 ive-im-hospiz-privat/2025-12-09-12-05.html
END:VEVENT
END:VCALENDAR
