BEGIN:VCALENDAR
VERSION:2.0
PRODID:-//Pianist Bastian Kopp -♫-die passende Musik für Ihr Event//NONSGML kigkonsult.se iCalcreator 2.41.92//
CALSCALE:GREGORIAN
METHOD:PUBLISH
UID:35363237-3835-4633-a335-333134313632
X-WR-CALNAME:iCagenda
X-WR-CALDESC:Event Management Extension for Joomla!
X-WR-RELCALID:3E26604A-50F4-4449-8B3E-E4F4932D05B5
X-WR-TIMEZONE:Europe/Berlin
BEGIN:VTIMEZONE
TZID:Europe/Berlin
TZUNTIL:20271031T010000Z
BEGIN:STANDARD
TZNAME:CET
DTSTART:20251026T030000
TZOFFSETFROM:+0200
TZOFFSETTO:+0100
RDATE:20261025T030000
END:STANDARD
BEGIN:DAYLIGHT
TZNAME:CEST
DTSTART:20250330T020000
TZOFFSETFROM:+0100
TZOFFSETTO:+0200
RDATE:20260329T020000
RDATE:20270328T020000
END:DAYLIGHT
END:VTIMEZONE
BEGIN:VEVENT
UID:39333431-6435-4536-a635-306133353265
DTSTAMP:20260424T093022Z
CATEGORIES:Veranstaltungen
CLASS:PUBLIC
DESCRIPTION;ALTREP="CID:<FFFF__=0ABBE548DFE235B58f9e8a93d@coffeebean.com>":
 Auch an Weihnachten ist nicht alles Gold\, was glänzt. Zwischen Tannengrün
  und Lametta drohen Pech und Pannen\, Tod und Teufel – so will es wenigste
 ns die Satire: Von der „Weihnachtsschimpfe“ über den „Weihnachtsmann auf d
 er Reeperbahn“ bis hin zum Amoklauf auf dem Weihnachtsmarkt bieten Bastian
  Kopp und Thomas Eicher einiges auf\, um die schwarzen Seiten des frohen F
 estes hervorzukehren. Sogar die weihnachtliche Lesung selbst wird zum Them
 a: als desaströses Erlebnis des Vorlesers. Aber keine Sorge – am Ende sorg
 en doch wenigstens Bücher für Entspannung: „Wer vor Weihnachten in der Sti
 mmung ist\, sich etwas vorlesen zu lassen\, der beginnt nach Heiligabend m
 it der Lektüre jener Bücher\, die er auf dem Gabentisch gefunden hat. Nach
 richten\, die behaupten\, dass während der Festtage die Gewalt in Ehen und
  Familien ansteigt\, treffen nur zum Teil zu. Denn Leser haben gar keine Z
 eit\, sich mit Partnern oder Familienangehörigen auseinanderzusetzen\, sch
 on gar nicht handgreiflich.“\nThomas Eicher (geb. 1963) lebt in Dortmund. 
 Er arbeitet als Moderator\, Rezitator und Kulturmanager. Seit 2004 ist er 
 Geschäftsführer von Melange e.V. Der promovierte Literaturwissenschaftler 
 hat Erzählungen\, Fachbücher und Anthologien publiziert.Bastian Kopp (geb.
  1975) lebt in Düsseldorf. Er arbeitet seit Jahren freischaffend als Piani
 st\, Liedbegleiter\, Komponist und Sänger. Besonders als Interpret von Lie
 dern Georg Kreislers hat er sich einen Namen gemacht.
DTSTART:20251214T100000Z
DTEND:20251214T100000Z
GEO:+51.502567;+7.417407
LOCATION:Pulsschlag Bürgerhaus\, Dortmund-Dorstfeld
ORGANIZER:
SEQUENCE:1
SUMMARY:Keinmal werden wir noch wach. Böse Lieder und Geschichten - im Puls
 schlag in Dortmund-Dorstfeld
TRANSP:OPAQUE
URL:https://www.bastiankopp.de/termine/vergangene-termine/32-keinmal-werden
 -wir-noch-wach-boese-lieder-und-geschichten-im-pulsschlag-in-dortmund-dors
 tfeld/2025-12-14-11-00.html
END:VEVENT
END:VCALENDAR
