BEGIN:VCALENDAR
VERSION:2.0
PRODID:-//Pianist Bastian Kopp -♫-die passende Musik für Ihr Event//NONSGML kigkonsult.se iCalcreator 2.41.92//
CALSCALE:GREGORIAN
METHOD:PUBLISH
UID:62373036-6131-4335-b032-376164353334
X-WR-CALNAME:iCagenda
X-WR-CALDESC:Event Management Extension for Joomla!
X-WR-RELCALID:3E26604A-50F4-4449-8B3E-E4F4932D05B5
X-WR-TIMEZONE:Europe/Berlin
BEGIN:VTIMEZONE
TZID:Europe/Berlin
TZUNTIL:20270328T010000Z
BEGIN:STANDARD
TZNAME:CET
DTSTART:20241027T030000
TZOFFSETFROM:+0200
TZOFFSETTO:+0100
RDATE:20251026T030000
RDATE:20261025T030000
END:STANDARD
BEGIN:DAYLIGHT
TZNAME:CEST
DTSTART:20250330T020000
TZOFFSETFROM:+0100
TZOFFSETTO:+0200
RDATE:20260329T020000
END:DAYLIGHT
END:VTIMEZONE
BEGIN:VEVENT
UID:31363936-3331-4336-a166-623538646632
DTSTAMP:20260424T092330Z
CATEGORIES:Veranstaltungen
CLASS:PUBLIC
DESCRIPTION:
DTSTART:20250629T120000Z
DTEND:20250629T120000Z
GEO:+51.192215;+7.170837
LOCATION:Open-Air-Bühne
ORGANIZER:
SEQUENCE:1
SUMMARY:mit THREEDOM LIVE in Remscheid
TRANSP:OPAQUE
URL:https://www.bastiankopp.de/termine/vergangene-termine/28-mit-threedom-l
 ive-in-remscheid/2025-06-29-14-00.html
END:VEVENT
END:VCALENDAR
