BEGIN:VCALENDAR
VERSION:2.0
PRODID:-//Pianist Bastian Kopp -♫-die passende Musik für Ihr Event//NONSGML kigkonsult.se iCalcreator 2.41.92//
CALSCALE:GREGORIAN
METHOD:PUBLISH
UID:35646262-6561-4034-b030-643662666262
X-WR-CALNAME:iCagenda
X-WR-CALDESC:Event Management Extension for Joomla!
X-WR-RELCALID:3E26604A-50F4-4449-8B3E-E4F4932D05B5
X-WR-TIMEZONE:Europe/Berlin
BEGIN:VTIMEZONE
TZID:Europe/Berlin
TZUNTIL:20270328T010000Z
BEGIN:STANDARD
TZNAME:CET
DTSTART:20241027T030000
TZOFFSETFROM:+0200
TZOFFSETTO:+0100
RDATE:20251026T030000
RDATE:20261025T030000
END:STANDARD
BEGIN:DAYLIGHT
TZNAME:CEST
DTSTART:20250330T020000
TZOFFSETFROM:+0100
TZOFFSETTO:+0200
RDATE:20260329T020000
END:DAYLIGHT
END:VTIMEZONE
BEGIN:VEVENT
UID:37306462-3664-4164-b233-613362633066
DTSTAMP:20260424T092813Z
CATEGORIES:Veranstaltungen
CLASS:PUBLIC
DESCRIPTION:
DTSTART:20250823T170000Z
DTEND:20250823T170000Z
GEO:+51.298267;+6.914242
LOCATION:
ORGANIZER:
SEQUENCE:1
SUMMARY:mit THREEDOM LIVE in Ratingen (geschlossene Gesellschaft)
TRANSP:OPAQUE
URL:https://www.bastiankopp.de/termine/vergangene-termine/26-mit-threedom-l
 ive-in-ratingen-geschlossene-gesellschaft/2025-08-23-19-00.html
END:VEVENT
END:VCALENDAR
