BEGIN:VCALENDAR
VERSION:2.0
PRODID:-//Pianist Bastian Kopp -♫-die passende Musik für Ihr Event//NONSGML kigkonsult.se iCalcreator 2.41.92//
CALSCALE:GREGORIAN
METHOD:PUBLISH
UID:63383337-3139-4733-b430-323136393036
X-WR-CALNAME:iCagenda
X-WR-CALDESC:Event Management Extension for Joomla!
X-WR-RELCALID:3E26604A-50F4-4449-8B3E-E4F4932D05B5
X-WR-TIMEZONE:Europe/Berlin
BEGIN:VTIMEZONE
TZID:Europe/Berlin
TZUNTIL:20271031T010000Z
BEGIN:STANDARD
TZNAME:CET
DTSTART:20251026T030000
TZOFFSETFROM:+0200
TZOFFSETTO:+0100
RDATE:20261025T030000
END:STANDARD
BEGIN:DAYLIGHT
TZNAME:CEST
DTSTART:20250330T020000
TZOFFSETFROM:+0100
TZOFFSETTO:+0200
RDATE:20260329T020000
RDATE:20270328T020000
END:DAYLIGHT
END:VTIMEZONE
BEGIN:VEVENT
UID:31396565-6164-4431-b836-663462626630
DTSTAMP:20260424T092423Z
CATEGORIES:Veranstaltungen
CLASS:PUBLIC
DESCRIPTION:
DTSTART:20251122T170000Z
DTEND:20251122T170000Z
GEO:+50.565861;+7.484816
LOCATION:Open-Air
ORGANIZER:
SEQUENCE:1
SUMMARY:mit THREEDOM LIVE in Hümmerich
TRANSP:OPAQUE
URL:https://www.bastiankopp.de/termine/vergangene-termine/25-mit-threedom-l
 ive-in-huemmerich/2025-11-22-18-00.html
END:VEVENT
END:VCALENDAR
