BEGIN:VCALENDAR
VERSION:2.0
PRODID:-//Pianist Bastian Kopp -♫-die passende Musik für Ihr Event//NONSGML kigkonsult.se iCalcreator 2.41.92//
CALSCALE:GREGORIAN
METHOD:PUBLISH
UID:38303561-6331-4864-a431-386335383331
X-WR-CALNAME:iCagenda
X-WR-CALDESC:Event Management Extension for Joomla!
X-WR-RELCALID:3E26604A-50F4-4449-8B3E-E4F4932D05B5
X-WR-TIMEZONE:Europe/Berlin
BEGIN:VTIMEZONE
TZID:Europe/Berlin
TZUNTIL:20260329T010000Z
BEGIN:STANDARD
TZNAME:CET
DTSTART:20231029T030000
TZOFFSETFROM:+0200
TZOFFSETTO:+0100
RDATE:20241027T030000
RDATE:20251026T030000
END:STANDARD
BEGIN:DAYLIGHT
TZNAME:CEST
DTSTART:20240331T020000
TZOFFSETFROM:+0100
TZOFFSETTO:+0200
RDATE:20250330T020000
END:DAYLIGHT
END:VTIMEZONE
BEGIN:VEVENT
UID:31373030-3431-4539-a135-663362383935
DTSTAMP:20260424T103054Z
CATEGORIES:Veranstaltungen
CLASS:PUBLIC
DESCRIPTION;ALTREP="CID:<FFFF__=0ABBE548DFE235B58f9e8a93d@coffeebean.com>":
 725 Jahre Niederdieten! Drei davon mit uns! Wir können es kaum glauben. TH
 REEDOM sagen DANKE für so viel Treue!Die genaue Uhrzeit wird noch bekanntg
 egeben.
DTSTART:20240824T160000Z
DTEND:20240824T210000Z
GEO:+50.869736;+8.441729
LOCATION:Dorffest
ORGANIZER:
SEQUENCE:1
SUMMARY:Mit THREEDOM LIVE! in Breidenbach/Niederdieten
TRANSP:OPAQUE
URL:https://www.bastiankopp.de/termine/vergangene-termine/24-mit-threedom-l
 ive-in-niederdieten/2024-08-24-18-00.html
END:VEVENT
END:VCALENDAR
