BEGIN:VCALENDAR
VERSION:2.0
PRODID:-//Pianist Bastian Kopp -♫-die passende Musik für Ihr Event//NONSGML kigkonsult.se iCalcreator 2.41.92//
CALSCALE:GREGORIAN
METHOD:PUBLISH
UID:63333538-3630-4735-a636-336434316531
X-WR-CALNAME:iCagenda
X-WR-CALDESC:Event Management Extension for Joomla!
X-WR-RELCALID:3E26604A-50F4-4449-8B3E-E4F4932D05B5
X-WR-TIMEZONE:Europe/Berlin
BEGIN:VTIMEZONE
TZID:Europe/Berlin
TZUNTIL:20250330T010000Z
BEGIN:STANDARD
TZNAME:CET
DTSTART:20221030T030000
TZOFFSETFROM:+0200
TZOFFSETTO:+0100
RDATE:20231029T030000
RDATE:20241027T030000
END:STANDARD
BEGIN:DAYLIGHT
TZNAME:CEST
DTSTART:20230326T020000
TZOFFSETFROM:+0100
TZOFFSETTO:+0200
RDATE:20240331T020000
END:DAYLIGHT
END:VTIMEZONE
BEGIN:VEVENT
UID:62633865-3731-4333-b533-346662646535
DTSTAMP:20260424T101221Z
CATEGORIES:Veranstaltungen
CLASS:PUBLIC
DESCRIPTION:
DTSTART:20230916T190900Z
DTEND:20230916T190900Z
GEO:+50.886955;+8.454432
LOCATION:
ORGANIZER:
SEQUENCE:1
SUMMARY:mit THREEDOM LIVE in Breidenbach (geschlossene Gesellschaft)
TRANSP:OPAQUE
URL:https://www.bastiankopp.de/termine/vergangene-termine/20-mit-threedom-l
 ive-in-breidenbach-geschlossene-gesellschaft-2/2023-09-16-21-09.html
END:VEVENT
END:VCALENDAR
