BEGIN:VCALENDAR
VERSION:2.0
PRODID:-//Pianist Bastian Kopp -♫-die passende Musik für Ihr Event//NONSGML kigkonsult.se iCalcreator 2.41.92//
CALSCALE:GREGORIAN
METHOD:PUBLISH
UID:35636666-3365-4132-b364-373934633231
X-WR-CALNAME:iCagenda
X-WR-CALDESC:Event Management Extension for Joomla!
X-WR-RELCALID:3E26604A-50F4-4449-8B3E-E4F4932D05B5
X-WR-TIMEZONE:Europe/Berlin
BEGIN:VTIMEZONE
TZID:Europe/Berlin
TZUNTIL:20250330T010000Z
BEGIN:STANDARD
TZNAME:CET
DTSTART:20221030T030000
TZOFFSETFROM:+0200
TZOFFSETTO:+0100
RDATE:20231029T030000
RDATE:20241027T030000
END:STANDARD
BEGIN:DAYLIGHT
TZNAME:CEST
DTSTART:20230326T020000
TZOFFSETFROM:+0100
TZOFFSETTO:+0200
RDATE:20240331T020000
END:DAYLIGHT
END:VTIMEZONE
BEGIN:VEVENT
UID:38393061-6438-4334-b866-366438633833
DTSTAMP:20260424T092133Z
CATEGORIES:Veranstaltungen
CLASS:PUBLIC
DESCRIPTION;ALTREP="CID:<FFFF__=0ABBE548DFE235B58f9e8a93d@coffeebean.com>":
 Von 11 bis 17 Uhr ist das Alte Rathaus für Besucher geöffnet und die Unter
 e Denkmalbehörde der Stadt Dorsten steht für Fragen rundum den Denkmalschu
 tz zur Verfügung. Von 14 bis 14.20 Uhr gibt es einen Kurzvortrag zum Thema
 . Höhepunkt soll die feierliche Übergabe der Denkmalschutzplakette für das
  Alte Rathaus sein\, die auch zum Anlass genommen wird\, die Arbeit des Tr
 ägervereins Altes Rathaus Dorsten zu würdigen.\nChanson-Programm\nDer Vere
 in hat am Nachmittag um 15 Uhr zum Abschluss bei Kaffee und Kuchen ein Cha
 nson-Programm mit Sanna Städtler (Gesang) und Bastian Kopp (Klavier\, Gesa
 ng) im Alten Rathaus geplant.\nDas Duo aus Düsseldorf präsentiert Lieder v
 on Friedrich Hollaender\, Georg Kreisler\, Hugo Wiener\, Zarah Leander\, H
 ildegard Knef und Marlene Dietrich\, in denen das Verhältnis zwischen Frau
  und Mann mal satirisch\, mal nachdenklich-melancholisch wird. Eintritt fr
 ei\, keine Anmeldung nötig.
DTSTART:20230910T120000Z
DTEND:20230910T150000Z
GEO:+51.660435;+6.964952
LOCATION:Altes Rathaus Dorsten
ORGANIZER:
SEQUENCE:1
SUMMARY:mit Sanna Städtler zum Tag des Denkmals in Dorsten
TRANSP:OPAQUE
URL:https://www.bastiankopp.de/termine/vergangene-termine/19-mit-sanna-stae
 dtler-zum-tag-des-denkmals-in-dorsten.html
END:VEVENT
END:VCALENDAR
