BEGIN:VCALENDAR
VERSION:2.0
PRODID:-//Pianist Bastian Kopp -♫-die passende Musik für Ihr Event//NONSGML kigkonsult.se iCalcreator 2.41.92//
CALSCALE:GREGORIAN
METHOD:PUBLISH
UID:34633033-6135-4639-b436-623161643536
X-WR-CALNAME:iCagenda
X-WR-CALDESC:Event Management Extension for Joomla!
X-WR-RELCALID:3E26604A-50F4-4449-8B3E-E4F4932D05B5
X-WR-TIMEZONE:Europe/Berlin
BEGIN:VTIMEZONE
TZID:Europe/Berlin
TZUNTIL:20250330T010000Z
BEGIN:STANDARD
TZNAME:CET
DTSTART:20221030T030000
TZOFFSETFROM:+0200
TZOFFSETTO:+0100
RDATE:20231029T030000
RDATE:20241027T030000
END:STANDARD
BEGIN:DAYLIGHT
TZNAME:CEST
DTSTART:20230326T020000
TZOFFSETFROM:+0100
TZOFFSETTO:+0200
RDATE:20240331T020000
END:DAYLIGHT
END:VTIMEZONE
BEGIN:VEVENT
UID:61303863-6538-4636-b966-656265376164
DTSTAMP:20260424T094032Z
CATEGORIES:Veranstaltungen
CLASS:PUBLIC
DESCRIPTION:
DTSTART:20230909T190000Z
DTEND:20230909T230000Z
GEO:+51.105965;+7.01403
LOCATION:
ORGANIZER:
SEQUENCE:1
SUMMARY:mit THREEDOM LIVE in Leichlingen (geschlossene Gesellschaft)
TRANSP:OPAQUE
URL:https://www.bastiankopp.de/termine/vergangene-termine/18-mit-threedom-l
 ive-in-leichlingen-geschlossene-gesellschaft.html
END:VEVENT
END:VCALENDAR
