BEGIN:VCALENDAR
VERSION:2.0
PRODID:-//Pianist Bastian Kopp -♫-die passende Musik für Ihr Event//NONSGML kigkonsult.se iCalcreator 2.41.92//
CALSCALE:GREGORIAN
METHOD:PUBLISH
UID:63646363-3631-4432-b063-323365366339
X-WR-CALNAME:iCagenda
X-WR-CALDESC:Event Management Extension for Joomla!
X-WR-RELCALID:3E26604A-50F4-4449-8B3E-E4F4932D05B5
X-WR-TIMEZONE:Europe/Berlin
BEGIN:VTIMEZONE
TZID:Europe/Berlin
TZUNTIL:20250330T010000Z
BEGIN:STANDARD
TZNAME:CET
DTSTART:20221030T030000
TZOFFSETFROM:+0200
TZOFFSETTO:+0100
RDATE:20231029T030000
RDATE:20241027T030000
END:STANDARD
BEGIN:DAYLIGHT
TZNAME:CEST
DTSTART:20230326T020000
TZOFFSETFROM:+0100
TZOFFSETTO:+0200
RDATE:20240331T020000
END:DAYLIGHT
END:VTIMEZONE
BEGIN:VEVENT
UID:36323638-6332-4539-a134-393463313965
DTSTAMP:20260424T092925Z
CATEGORIES:Veranstaltungen
CLASS:PUBLIC
DESCRIPTION;ALTREP="CID:<FFFF__=0ABBE548DFE235B58f9e8a93d@coffeebean.com>":
 THREEDOM LIVE auf dem Stadtfest Hohenlimburg! Mit Biergarten\, Hüpfburg un
 d vielen anderen Aktivitäten. Es wird ein musikalisch abwechslungsreicher 
 Sommerabend. KOMMT VORBEI!
DTSTART:20230624T133000Z
DTEND:20230624T133000Z
GEO:+51.351097;+7.567554
LOCATION:Große Bühne\, Freiheitsstraße
ORGANIZER:
SEQUENCE:1
SUMMARY:mit THREEDOM LIVE auf dem Stadtfest Hohenlimburg
TRANSP:OPAQUE
URL:https://www.bastiankopp.de/termine/vergangene-termine/17-mit-threedom-l
 ive-auf-dem-stadtfest-hohenlimburg/2023-06-24-15-30.html
END:VEVENT
END:VCALENDAR
