BEGIN:VCALENDAR
VERSION:2.0
PRODID:-//Pianist Bastian Kopp -♫-die passende Musik für Ihr Event//NONSGML kigkonsult.se iCalcreator 2.41.92//
CALSCALE:GREGORIAN
METHOD:PUBLISH
UID:30666531-3935-4639-b032-383737313532
X-WR-CALNAME:iCagenda
X-WR-CALDESC:Event Management Extension for Joomla!
X-WR-RELCALID:3E26604A-50F4-4449-8B3E-E4F4932D05B5
X-WR-TIMEZONE:Europe/Berlin
BEGIN:VTIMEZONE
TZID:Europe/Berlin
TZUNTIL:20250330T010000Z
BEGIN:STANDARD
TZNAME:CET
DTSTART:20221030T030000
TZOFFSETFROM:+0200
TZOFFSETTO:+0100
RDATE:20231029T030000
RDATE:20241027T030000
END:STANDARD
BEGIN:DAYLIGHT
TZNAME:CEST
DTSTART:20230326T020000
TZOFFSETFROM:+0100
TZOFFSETTO:+0200
RDATE:20240331T020000
END:DAYLIGHT
END:VTIMEZONE
BEGIN:VEVENT
UID:62656435-3232-4538-b332-653133633437
DTSTAMP:20260424T094133Z
CATEGORIES:Veranstaltungen
CLASS:PUBLIC
DESCRIPTION;ALTREP="CID:<FFFF__=0ABBE548DFE235B58f9e8a93d@coffeebean.com>":
 Oliver und ich rocken zum ersten Mai zum SPD Bürgerfest in Leichlingen
DTSTART:20230501T103000Z
DTEND:20230501T103000Z
GEO:+51.103317;+7.014476
LOCATION:SPD-Stand\, an der Hüpfburg links \;)
ORGANIZER:
SEQUENCE:1
SUMMARY:Mit Oliver Gärtner in Leichlingen
TRANSP:OPAQUE
URL:https://www.bastiankopp.de/termine/vergangene-termine/16-mit-oliver-gae
 rtner-in-leichlingen/2023-05-01-12-30.html
END:VEVENT
END:VCALENDAR
