BEGIN:VCALENDAR
VERSION:2.0
PRODID:-//Pianist Bastian Kopp -♫-die passende Musik für Ihr Event//NONSGML kigkonsult.se iCalcreator 2.41.92//
CALSCALE:GREGORIAN
METHOD:PUBLISH
UID:62356137-6239-4563-b635-323466613332
X-WR-CALNAME:iCagenda
X-WR-CALDESC:Event Management Extension for Joomla!
X-WR-RELCALID:3E26604A-50F4-4449-8B3E-E4F4932D05B5
X-WR-TIMEZONE:Europe/Berlin
BEGIN:VTIMEZONE
TZID:Europe/Berlin
TZUNTIL:20250330T010000Z
BEGIN:STANDARD
TZNAME:CET
DTSTART:20221030T030000
TZOFFSETFROM:+0200
TZOFFSETTO:+0100
RDATE:20231029T030000
RDATE:20241027T030000
END:STANDARD
BEGIN:DAYLIGHT
TZNAME:CEST
DTSTART:20230326T020000
TZOFFSETFROM:+0100
TZOFFSETTO:+0200
RDATE:20240331T020000
END:DAYLIGHT
END:VTIMEZONE
BEGIN:VEVENT
UID:38326231-6264-4061-b962-613533303139
DTSTAMP:20260424T094506Z
CATEGORIES:Veranstaltungen
CLASS:PUBLIC
DESCRIPTION;ALTREP="CID:<FFFF__=0ABBE548DFE235B58f9e8a93d@coffeebean.com>":
 Immer wieder ein Fest!Auch dieses Jahr rocken wir den Junggesell(In)envere
 in in Erpel. Das Festzelt findet Ihr an der Straßenecke. Hereinspaziert!
DTSTART:20230812T180000Z
DTEND:20230812T215900Z
GEO:+50.593349;+7.242551
LOCATION:Festzelt
ORGANIZER:
SEQUENCE:1
SUMMARY:THREEDOM LIVE! zur Kirmes des JGV Orsberg in Erpel
TRANSP:OPAQUE
URL:https://www.bastiankopp.de/termine/vergangene-termine/15-threedom-live-
 zur-kirmes-des-jgv-orsberg-in-erpel/2023-08-12-20-00.html
END:VEVENT
END:VCALENDAR
