BEGIN:VCALENDAR
VERSION:2.0
PRODID:-//Pianist Bastian Kopp -♫-die passende Musik für Ihr Event//NONSGML kigkonsult.se iCalcreator 2.41.92//
CALSCALE:GREGORIAN
METHOD:PUBLISH
UID:63646631-6364-4339-a630-383763623834
X-WR-CALNAME:iCagenda
X-WR-CALDESC:Event Management Extension for Joomla!
X-WR-RELCALID:3E26604A-50F4-4449-8B3E-E4F4932D05B5
X-WR-TIMEZONE:Europe/Berlin
BEGIN:VTIMEZONE
TZID:Europe/Berlin
TZUNTIL:20250330T010000Z
BEGIN:STANDARD
TZNAME:CET
DTSTART:20221030T030000
TZOFFSETFROM:+0200
TZOFFSETTO:+0100
RDATE:20231029T030000
RDATE:20241027T030000
END:STANDARD
BEGIN:DAYLIGHT
TZNAME:CEST
DTSTART:20230326T020000
TZOFFSETFROM:+0100
TZOFFSETTO:+0200
RDATE:20240331T020000
END:DAYLIGHT
END:VTIMEZONE
BEGIN:VEVENT
UID:33656137-3262-4532-a264-323262343436
DTSTAMP:20260424T104859Z
CATEGORIES:Veranstaltungen
CLASS:PUBLIC
DESCRIPTION;ALTREP="CID:<FFFF__=0ABBE548DFE235B58f9e8a93d@coffeebean.com>":
 (geschlossene Gesellschaft)
DTSTART:20230820T190900Z
DTEND:20230820T190900Z
GEO:+51.264019;+7.178037
LOCATION:
ORGANIZER:
SEQUENCE:1
SUMMARY:Kopp spielt Kreisler - ein Abend allein - in Wuppertal (geschlossen
 e Gesellschaft)
TRANSP:OPAQUE
URL:https://www.bastiankopp.de/termine/vergangene-termine/13-kopp-spielt-kr
 eisler-ein-abend-allein-in-wuppertal-geschlossene-gesellschaft/2023-08-20-
 21-09.html
END:VEVENT
END:VCALENDAR
