BEGIN:VCALENDAR
VERSION:2.0
PRODID:-//Pianist Bastian Kopp -♫-die passende Musik für Ihr Event//NONSGML kigkonsult.se iCalcreator 2.41.92//
CALSCALE:GREGORIAN
METHOD:PUBLISH
UID:39653664-3361-4161-b166-393462666363
X-WR-CALNAME:iCagenda
X-WR-CALDESC:Event Management Extension for Joomla!
X-WR-RELCALID:3E26604A-50F4-4449-8B3E-E4F4932D05B5
X-WR-TIMEZONE:Europe/Berlin
BEGIN:VTIMEZONE
TZID:Europe/Berlin
TZUNTIL:20251026T010000Z
BEGIN:STANDARD
TZNAME:CET
DTSTART:20231029T030000
TZOFFSETFROM:+0200
TZOFFSETTO:+0100
RDATE:20241027T030000
END:STANDARD
BEGIN:DAYLIGHT
TZNAME:CEST
DTSTART:20230326T020000
TZOFFSETFROM:+0100
TZOFFSETTO:+0200
RDATE:20240331T020000
RDATE:20250330T020000
END:DAYLIGHT
END:VTIMEZONE
BEGIN:VEVENT
UID:36656663-6633-4662-b736-386665386461
DTSTAMP:20260424T092748Z
CATEGORIES:Veranstaltungen
CLASS:PUBLIC
DESCRIPTION;ALTREP="CID:<FFFF__=0ABBE548DFE235B58f9e8a93d@coffeebean.com>":
 \nAuch an Weihnachten ist nicht alles Gold\, was glänzt. Zwischen Tannengr
 ün und Lametta drohen Pech und Pannen\, Tod und Teufel – so will es wenigs
 tens die Satire: Von der „Weihnachtsschimpfe“ über den „Weihnachtsmann auf
  der Reeperbahn“ bis hin zum Amoklauf auf dem Weihnachtsmarkt bieten Basti
 an Kopp und Thomas Eicher einiges auf\, um die schwarzen Seiten des frohen
  Festes hervorzukehren. Sogar die weihnachtliche Lesung selbst wird zum Th
 ema: als desaströses Erlebnis des Vorlesers. Aber keine Sorge – am Ende so
 rgen doch wenigstens Bücher für Entspannung: „Wer vor Weihnachten in der S
 timmung ist\, sich etwas vorlesen zu lassen\, der beginnt nach Heiligabend
  mit der Lektüre jener Bücher\, die er auf dem Gabentisch gefunden hat. Na
 chrichten\, die behaupten\, dass während der Festtage die Gewalt in Ehen u
 nd Familien ansteigt\, treffen nur zum Teil zu. Denn Leser haben gar keine
  Zeit\, sich mit Partnern oder Familienangehörigen auseinanderzusetzen\, s
 chon gar nicht handgreiflich.“\nThomas Eicher (geb. 1963) lebt in Dortmund
 . Er arbeitet als Moderator\, Rezitator und Kulturmanager. Seit 2004 ist e
 r Geschäftsführer von Melange e.V. Der promovierte Literaturwissenschaftle
 r hat Erzählungen\, Fachbücher und Anthologien publiziert.Bastian Kopp (ge
 b. 1975) lebt in Düsseldorf. Er arbeitet seit Jahren freischaffend als Pia
 nist\, Liedbegleiter\, Komponist und Sänger. Besonders als Interpret von L
 iedern Georg Kreislers hat er sich einen Namen gemacht.
DTSTART:20231124T180000Z
DTEND:20231124T203000Z
GEO:+51.535233;+7.691662
LOCATION:Einzelheiten werden noch bekannt gegeben
ORGANIZER:
SEQUENCE:1
SUMMARY:Keinmal werden wir noch wach. Böse Lieder und Geschichten - Nicolai
 haus\, Unna
TRANSP:OPAQUE
URL:https://www.bastiankopp.de/termine/vergangene-termine/10-keinmal-werden
 -wir-noch-wach-boese-lieder-und-geschichten/2023-11-24-19-00.html
END:VEVENT
END:VCALENDAR
