BEGIN:VCALENDAR
VERSION:2.0
PRODID:-//Pianist Bastian Kopp -♫-die passende Musik für Ihr Event//NONSGML kigkonsult.se iCalcreator 2.41.92//
CALSCALE:GREGORIAN
METHOD:PUBLISH
UID:36613666-3165-4830-b732-623635636136
X-WR-CALNAME:iCagenda
X-WR-CALDESC:Event Management Extension for Joomla!
X-WR-RELCALID:3E26604A-50F4-4449-8B3E-E4F4932D05B5
X-WR-TIMEZONE:Europe/Berlin
BEGIN:VTIMEZONE
TZID:Europe/Berlin
TZUNTIL:20241027T010000Z
BEGIN:STANDARD
TZNAME:CET
DTSTART:20221030T030000
TZOFFSETFROM:+0200
TZOFFSETTO:+0100
RDATE:20231029T030000
END:STANDARD
BEGIN:DAYLIGHT
TZNAME:CEST
DTSTART:20220327T020000
TZOFFSETFROM:+0100
TZOFFSETTO:+0200
RDATE:20230326T020000
RDATE:20240331T020000
END:DAYLIGHT
END:VTIMEZONE
BEGIN:VEVENT
UID:37323466-6138-4138-b162-343762663435
DTSTAMP:20260424T092625Z
CATEGORIES:Veranstaltungen
CLASS:PUBLIC
DESCRIPTION;ALTREP="CID:<FFFF__=0ABBE548DFE235B58f9e8a93d@coffeebean.com>":
 Auch an Weihnachten ist nicht alles Gold\, was glänzt. Zwischen Tannengrün
  und Lametta drohen Pech und Pannen\, Tod und Teufel – so will es wenigste
 ns die Satire: Von der „Weihnachtsschimpfe“ über den „Weihnachtsmann auf d
 er Reeperbahn“ bis hin zum Amoklauf auf dem Weihnachtsmarkt bieten Bastian
  Kopp und Thomas Eicher einiges auf\, um die schwarzen Seiten des frohen F
 estes hervorzukehren. Sogar die weihnachtliche Lesung selbst wird zum Them
 a: als desaströses Erlebnis des Vorlesers. Aber keine Sorge – am Ende sorg
 en doch wenigstens Bücher für Entspannung: „Wer vor Weihnachten in der Sti
 mmung ist\, sich etwas vorlesen zu lassen\, der beginnt nach Heiligabend m
 it der Lektüre jener Bücher\, die er auf dem Gabentisch gefunden hat. Nach
 richten\, die behaupten\, dass während der Festtage die Gewalt in Ehen und
  Familien ansteigt\, treffen nur zum Teil zu. Denn Leser haben gar keine Z
 eit\, sich mit Partnern oder Familienangehörigen auseinanderzusetzen\, sch
 on gar nicht handgreiflich.“
DTSTART:20221119T143000Z
DTEND:20221119T143000Z
GEO:+51.510628;+7.09551
LOCATION:Buchhandlung Lothar Junius
ORGANIZER;CN=:mailto:info@buchhandlung-junius.de
SEQUENCE:1
SUMMARY:Keinmal werden wir noch wach. Böse Lieder und Geschichten
TRANSP:OPAQUE
URL:https://www.bastiankopp.de/termine/vergangene-termine/1-keinmal-werden-
 wir-noch-wach-b%C3%B6se-lieder-und-geschichten/2022-11-19-15-30.html
END:VEVENT
END:VCALENDAR
