BEGIN:VCALENDAR
VERSION:2.0
PRODID:-//Pianist Bastian Kopp -♫-die passende Musik für Ihr Event//NONSGML kigkonsult.se iCalcreator 2.41.92//
CALSCALE:GREGORIAN
METHOD:PUBLISH
UID:38396430-6563-4534-b834-343665373931
X-WR-CALNAME:iCagenda
X-WR-CALDESC:Event Management Extension for Joomla!
X-WR-RELCALID:3E26604A-50F4-4449-8B3E-E4F4932D05B5
X-WR-TIMEZONE:Europe/Berlin
BEGIN:VTIMEZONE
TZID:Europe/Berlin
TZUNTIL:20280326T010000Z
BEGIN:STANDARD
TZNAME:CET
DTSTART:20251026T030000
TZOFFSETFROM:+0200
TZOFFSETTO:+0100
RDATE:20261025T030000
RDATE:20271031T030000
END:STANDARD
BEGIN:DAYLIGHT
TZNAME:CEST
DTSTART:20260329T020000
TZOFFSETFROM:+0100
TZOFFSETTO:+0200
RDATE:20270328T020000
END:DAYLIGHT
END:VTIMEZONE
BEGIN:VEVENT
UID:32653435-6537-4133-b563-613730313432
DTSTAMP:20260421T180504Z
CATEGORIES:Veranstaltungen
CLASS:PUBLIC
DESCRIPTION;ALTREP="CID:<FFFF__=0ABBE548DFE235B58f9e8a93d@coffeebean.com>":
 Für alle\, die uns in 2025 verpassten\, kommen wir in 2026 erneut nach Has
 ten.
DTSTART:20260627T170000Z
DTEND:20260627T170000Z
GEO:+51.192184;+7.170817
LOCATION:Open Air Bühne
ORGANIZER:
SEQUENCE:1
SUMMARY:Mit THREEDOM live in Remscheid Hasten
TRANSP:OPAQUE
URL:https://www.bastiankopp.de/termine/aktuelle-termine/39-mit-threedom-liv
 e-in-remscheid-hasten-2/2026-06-27-19-00.html
END:VEVENT
END:VCALENDAR
