BEGIN:VCALENDAR
VERSION:2.0
PRODID:-//Pianist Bastian Kopp -♫-die passende Musik für Ihr Event//NONSGML kigkonsult.se iCalcreator 2.41.92//
CALSCALE:GREGORIAN
METHOD:PUBLISH
UID:63396138-3934-4833-a133-343638363638
X-WR-CALNAME:iCagenda
X-WR-CALDESC:Event Management Extension for Joomla!
X-WR-RELCALID:3E26604A-50F4-4449-8B3E-E4F4932D05B5
X-WR-TIMEZONE:Europe/Berlin
BEGIN:VTIMEZONE
TZID:Europe/Berlin
TZUNTIL:20281029T010000Z
BEGIN:STANDARD
TZNAME:CET
DTSTART:20261025T030000
TZOFFSETFROM:+0200
TZOFFSETTO:+0100
RDATE:20271031T030000
END:STANDARD
BEGIN:DAYLIGHT
TZNAME:CEST
DTSTART:20260329T020000
TZOFFSETFROM:+0100
TZOFFSETTO:+0200
RDATE:20270328T020000
RDATE:20280326T020000
END:DAYLIGHT
END:VTIMEZONE
BEGIN:VEVENT
UID:66666633-3261-4131-b538-633535363763
DTSTAMP:20260421T164043Z
CATEGORIES:Veranstaltungen
CLASS:PUBLIC
DESCRIPTION;ALTREP="CID:<FFFF__=0ABBE548DFE235B58f9e8a93d@coffeebean.com>":
 Zieht euch warm an\, denn auch in diesem Jahr geht es mit THREEDOM ab in d
 en Steinbruch!\nWarmer Glühwein\, tolle Menschen\, tolle Musik - was will 
 man mehr?\nDie genaue Uhrzeit wird noch bekanntgegeben.
DTSTART:20261114T170000Z
DTEND:20261114T170000Z
GEO:+50.565861;+7.484816
LOCATION:Open-Air
ORGANIZER:
SEQUENCE:1
SUMMARY:mit THREEDOM LIVE in Hümmerich
TRANSP:OPAQUE
URL:https://www.bastiankopp.de/termine/aktuelle-termine/36-mit-threedom-liv
 e-in-huemmerich-2/2026-11-14-18-00.html
END:VEVENT
END:VCALENDAR
